BEGIN:VCALENDAR
VERSION:2.0
PRODID:-//Long Island Junior Soccer League - ECPv6.15.13//NONSGML v1.0//EN
CALSCALE:GREGORIAN
METHOD:PUBLISH
X-ORIGINAL-URL:https://lijsoccer.com
X-WR-CALDESC:Events for Long Island Junior Soccer League
REFRESH-INTERVAL;VALUE=DURATION:PT1H
X-Robots-Tag:noindex
X-PUBLISHED-TTL:PT1H
BEGIN:VTIMEZONE
TZID:America/New_York
BEGIN:DAYLIGHT
TZOFFSETFROM:-0500
TZOFFSETTO:-0400
TZNAME:EDT
DTSTART:20220313T070000
END:DAYLIGHT
BEGIN:STANDARD
TZOFFSETFROM:-0400
TZOFFSETTO:-0500
TZNAME:EST
DTSTART:20221106T060000
END:STANDARD
BEGIN:DAYLIGHT
TZOFFSETFROM:-0500
TZOFFSETTO:-0400
TZNAME:EDT
DTSTART:20230312T070000
END:DAYLIGHT
BEGIN:STANDARD
TZOFFSETFROM:-0400
TZOFFSETTO:-0500
TZNAME:EST
DTSTART:20231105T060000
END:STANDARD
BEGIN:DAYLIGHT
TZOFFSETFROM:-0500
TZOFFSETTO:-0400
TZNAME:EDT
DTSTART:20240310T070000
END:DAYLIGHT
BEGIN:STANDARD
TZOFFSETFROM:-0400
TZOFFSETTO:-0500
TZNAME:EST
DTSTART:20241103T060000
END:STANDARD
BEGIN:DAYLIGHT
TZOFFSETFROM:-0500
TZOFFSETTO:-0400
TZNAME:EDT
DTSTART:20250309T070000
END:DAYLIGHT
BEGIN:STANDARD
TZOFFSETFROM:-0400
TZOFFSETTO:-0500
TZNAME:EST
DTSTART:20251102T060000
END:STANDARD
BEGIN:DAYLIGHT
TZOFFSETFROM:-0500
TZOFFSETTO:-0400
TZNAME:EDT
DTSTART:20260308T070000
END:DAYLIGHT
BEGIN:STANDARD
TZOFFSETFROM:-0400
TZOFFSETTO:-0500
TZNAME:EST
DTSTART:20261101T060000
END:STANDARD
END:VTIMEZONE
BEGIN:VEVENT
DTSTART;TZID=America/New_York:20250812T170000
DTEND;TZID=America/New_York:20250812T210000
DTSTAMP:20260424T155648
CREATED:20250804T163852Z
LAST-MODIFIED:20250806T185420Z
UID:10000787-1755018000-1755032400@lijsoccer.com
SUMMARY:United Soccer Coaches Foundations Of Coaching Level 2 Diploma
DESCRIPTION:Host: Floral Park SC \nTo register\, click here. \n*Registration is limited
URL:https://lijsoccer.com/event/united-soccer-coaches-foundations-of-coaching-level-2-diploma-course-only-open-to-floral-park-sc-coaches-at-this-time-course-opened-to-public-august-6-if-registration-is-not-filled/
LOCATION:Floral Park Recreation Center\, 124 Stewart St\, Floral Park\, NY\, 11001\, United States
CATEGORIES:Coaches Education
END:VEVENT
BEGIN:VEVENT
DTSTART;TZID=America/New_York:20240920T170000
DTEND;TZID=America/New_York:20240920T210000
DTSTAMP:20260424T155648
CREATED:20240916T225931Z
LAST-MODIFIED:20240916T225931Z
UID:10000759-1726851600-1726866000@lijsoccer.com
SUMMARY:United Soccer Coaches Foundations Of Coaching Level 2 Diploma Course
DESCRIPTION:Host: Floral Park SC \nTo register\, click here. \n*Registration is limited
URL:https://lijsoccer.com/event/united-soccer-coaches-foundations-of-coaching-level-2-diploma-course-7/
LOCATION:Floral Park Recreation Center\, 124 Stewart St\, Floral Park\, NY\, 11001\, United States
CATEGORIES:Coaches Education
END:VEVENT
BEGIN:VEVENT
DTSTART;TZID=America/New_York:20240224T100000
DTEND;TZID=America/New_York:20240224T140000
DTSTAMP:20260424T155648
CREATED:20240207T202927Z
LAST-MODIFIED:20240207T202927Z
UID:10000737-1708768800-1708783200@lijsoccer.com
SUMMARY:Foundations Of Coaching Level 2 Diploma Course | Only Open To Floral Park SC Coaches At This Time | Course Opened To Public Two Weeks Prior To Event If Registration Is Not Filled
DESCRIPTION:Host: Floral Park SC \nAt this time\, course is only for Floral Park SC coaches – Club will send info to coaches \n* Course will be opened to the public two weeks prior to event if registration is not filled * \n10:00 AM – 12:00 PM – Classroom Session: Floral Park Recreation Center\n124 Stewart St.\, Floral Park\, NY 11001 \n12:00 PM – 2:00 PM – Field Session: Floral Park Memorial HS (Turf Field)\n                                                                    210 Locust St\, Floral Park\, NY 11001
URL:https://lijsoccer.com/event/foundations-of-coaching-level-2-diploma-course-only-open-to-floral-park-sc-coaches-at-this-time-course-opened-to-public-two-weeks-prior-to-event-if-registration-is-not-filled/
LOCATION:Floral Park Recreation Center\, 124 Stewart St\, Floral Park\, NY\, 11001\, United States
CATEGORIES:Coaches Education
END:VEVENT
BEGIN:VEVENT
DTSTART;TZID=America/New_York:20231203T110000
DTEND;TZID=America/New_York:20231203T150000
DTSTAMP:20260424T155648
CREATED:20231026T160852Z
LAST-MODIFIED:20231121T174239Z
UID:10000713-1701601200-1701615600@lijsoccer.com
SUMMARY:United Soccer Coaches Foundations Of Coaching Level 2 Diploma
DESCRIPTION:Host: Floral Park SC \nTo register\, click here. \n*Registration is limited
URL:https://lijsoccer.com/event/united-soccer-coaches-foundations-of-coaching-level-2-diploma-only-open-to-floral-park-sc-coaches-at-this-time-2/
LOCATION:Floral Park Recreation Center\, 124 Stewart St\, Floral Park\, NY\, 11001\, United States
CATEGORIES:Coaches Education
END:VEVENT
BEGIN:VEVENT
DTSTART;TZID=America/New_York:20231202T110000
DTEND;TZID=America/New_York:20231202T150000
DTSTAMP:20260424T155648
CREATED:20231026T150249Z
LAST-MODIFIED:20231121T174201Z
UID:10000712-1701514800-1701529200@lijsoccer.com
SUMMARY:United Soccer Coaches Foundations Of Coaching Level 2 Diploma
DESCRIPTION:Host: Floral Park SC \nTo register\, click here. \n*Registration is limited
URL:https://lijsoccer.com/event/united-soccer-coaches-foundations-of-coaching-level-2-diploma-only-open-to-floral-park-sc-coaches-at-this-time/
LOCATION:Floral Park Recreation Center\, 124 Stewart St\, Floral Park\, NY\, 11001\, United States
CATEGORIES:Coaches Education
END:VEVENT
END:VCALENDAR