BEGIN:VCALENDAR
VERSION:2.0
PRODID:-//Long Island Junior Soccer League - ECPv6.15.13//NONSGML v1.0//EN
CALSCALE:GREGORIAN
METHOD:PUBLISH
X-WR-CALNAME:Long Island Junior Soccer League
X-ORIGINAL-URL:https://lijsoccer.com
X-WR-CALDESC:Events for Long Island Junior Soccer League
REFRESH-INTERVAL;VALUE=DURATION:PT1H
X-Robots-Tag:noindex
X-PUBLISHED-TTL:PT1H
BEGIN:VTIMEZONE
TZID:America/New_York
BEGIN:DAYLIGHT
TZOFFSETFROM:-0500
TZOFFSETTO:-0400
TZNAME:EDT
DTSTART:20200308T070000
END:DAYLIGHT
BEGIN:STANDARD
TZOFFSETFROM:-0400
TZOFFSETTO:-0500
TZNAME:EST
DTSTART:20201101T060000
END:STANDARD
BEGIN:DAYLIGHT
TZOFFSETFROM:-0500
TZOFFSETTO:-0400
TZNAME:EDT
DTSTART:20210314T070000
END:DAYLIGHT
BEGIN:STANDARD
TZOFFSETFROM:-0400
TZOFFSETTO:-0500
TZNAME:EST
DTSTART:20211107T060000
END:STANDARD
BEGIN:DAYLIGHT
TZOFFSETFROM:-0500
TZOFFSETTO:-0400
TZNAME:EDT
DTSTART:20220313T070000
END:DAYLIGHT
BEGIN:STANDARD
TZOFFSETFROM:-0400
TZOFFSETTO:-0500
TZNAME:EST
DTSTART:20221106T060000
END:STANDARD
END:VTIMEZONE
BEGIN:VEVENT
DTSTART;VALUE=DATE:20210522
DTEND;VALUE=DATE:20210524
DTSTAMP:20260423T051213
CREATED:20210326T125025Z
LAST-MODIFIED:20210416T181524Z
UID:10000222-1621641600-1621814399@lijsoccer.com
SUMMARY:League Play Week 7
DESCRIPTION:
URL:https://lijsoccer.com/event/league-play-week-7-2/
LOCATION:NY
END:VEVENT
BEGIN:VEVENT
DTSTART;TZID=America/New_York:20210523T160000
DTEND;TZID=America/New_York:20210523T180000
DTSTAMP:20260423T051213
CREATED:20210326T125904Z
LAST-MODIFIED:20210416T181502Z
UID:10000228-1621785600-1621792800@lijsoccer.com
SUMMARY:Club Development Day 2
DESCRIPTION:
URL:https://lijsoccer.com/event/club-development-day-2/
LOCATION:NY
END:VEVENT
END:VCALENDAR