BEGIN:VCALENDAR
VERSION:2.0
PRODID:-//Long Island Junior Soccer League - ECPv6.15.13//NONSGML v1.0//EN
CALSCALE:GREGORIAN
METHOD:PUBLISH
X-WR-CALNAME:Long Island Junior Soccer League
X-ORIGINAL-URL:https://lijsoccer.com
X-WR-CALDESC:Events for Long Island Junior Soccer League
REFRESH-INTERVAL;VALUE=DURATION:PT1H
X-Robots-Tag:noindex
X-PUBLISHED-TTL:PT1H
BEGIN:VTIMEZONE
TZID:America/New_York
BEGIN:DAYLIGHT
TZOFFSETFROM:-0500
TZOFFSETTO:-0400
TZNAME:EDT
DTSTART:20200308T070000
END:DAYLIGHT
BEGIN:STANDARD
TZOFFSETFROM:-0400
TZOFFSETTO:-0500
TZNAME:EST
DTSTART:20201101T060000
END:STANDARD
BEGIN:DAYLIGHT
TZOFFSETFROM:-0500
TZOFFSETTO:-0400
TZNAME:EDT
DTSTART:20210314T070000
END:DAYLIGHT
BEGIN:STANDARD
TZOFFSETFROM:-0400
TZOFFSETTO:-0500
TZNAME:EST
DTSTART:20211107T060000
END:STANDARD
BEGIN:DAYLIGHT
TZOFFSETFROM:-0500
TZOFFSETTO:-0400
TZNAME:EDT
DTSTART:20220313T070000
END:DAYLIGHT
BEGIN:STANDARD
TZOFFSETFROM:-0400
TZOFFSETTO:-0500
TZNAME:EST
DTSTART:20221106T060000
END:STANDARD
END:VTIMEZONE
BEGIN:VEVENT
DTSTART;TZID=America/New_York:20210416T170000
DTEND;TZID=America/New_York:20210416T170000
DTSTAMP:20260424T103303
CREATED:20210416T182037Z
LAST-MODIFIED:20210416T182037Z
UID:10000142-1618592400-1618592400@lijsoccer.com
SUMMARY:Academy East ID Session (Boys)
DESCRIPTION:Player Check-In: 4:30 PM
URL:https://lijsoccer.com/event/academy-east-id-session-boys-2/
LOCATION:Dayton Avenue School\, 151 Dayton Avenue\, Manorville\, NY\, 11949\, United States
END:VEVENT
END:VCALENDAR